Workbook
Name after: 'Part 2 Questions 1-3'!$C$2:$C$101
Name before: 'Part 2 Questions 1-3'!$B$2:$B$101

Sheet Grading Sheet
A1: Part 1
A2: Requirements: Answer each question fully. Use Excel formulas with cell references. Answers must be recorded on the worksheet.
B3: Possible points | C3: Points earned | D3: Comments
A4: Five year inflation rate | B4: 10
A5: Projection of expenses in Worksheet 1 | B5: 10
A6: Part 1 total | B6: 20 | C6: =SUM(C4:C5) -> 0
A7: Part 2
A8: Requirements: Answer each question fully. Use Excel formulas with cell references. Answers must be recorded on the worksheet.
B9: Possible points | C9: Points earned | D9: Comments
A10: Descriptive Statistics | B10: 16
A11: Interpret Descriptive Statistics | B11: 14
A12: Proportion calculations | B12: 10
A13: Interpretation of proportions | B13: 10
A14: Conversion of before well | B14: 5
A15: Conversion of after well | B15: 5
A16: Improvement level data set | B16: 5
A17: Descriptive Statistics for improvement levels | B17: 10
A18: Histogram | B18: 5
A19: Standard error of the mean | B19: 5
A20: Confidence interval | B20: 10
A21: Discussion of the placement of 0 | B21: 10
A22: Part 2 total | B22: 105 | C22: =SUM(C10:C21) -> 0
A23: Total of Worksheet 2 | B23: 125 | C23: =C6+C22 -> 0 | D23: =C23/B23 -> 0

Sheet Part 1 Inflation
A1: Input your name here
A2: name
E4: You should just use the budget information from Major Assignment 1. For the CPI values, here are the instructions: Step 1: Go to the Bureau of Labor Statistics website at the link below. Step 2: Check U.S. All items, 1982-84=100 Step 3: Click "Retrieve Data" Use the most recent CPI value and the CPI for the same month but five years earlier to estimate the price of your trip in five years and the five year inflation rate.
B5: Month | C5: Year | D5: CPI
A6: Unadjusted CPI, all items for 5 years ago | B6: September | C6: 2014 | D6: 238.031
A7: Unadjusted CPI, all items for last month | B7: September | C7: 2019 | D7: 256.759
A9: What is the 5 year inflation rate, that is percent increase in your CPI values? | D9: =((D7-D6)/D6) -> 0.078678828
A10: If something cost $1.00 five years ago, what would it cost now? | D10: =1+(1*D9) -> 1.0786788
A11: Total budget from Major Assignment 1 | D11: 1.08
A12: 5 year projected budget total | D12: =(1+D9)*D11 -> 1.1649731 | F12: CPI Data Link
C13: Like Topic 4 DQ 1

Sheet Part 2 Questions 1-3
B1: Before wells were dug - Millions of E.Coli per ml | C1: After wells were dug - Millions of E.Coli per ml | E1: YOUR NAME: | F1: Joe Lope | L1: Part 2 – Data Analysis: Enter your name in cell F1 to generate data. You have just completed a mission to Sierra Leone. The goal of the mission was to improve the quality of water in 100 wells in a certain region. You collected data on the E. coli count from each well before and after your mission. You need to write a report on the success of the mission and for that you need to perform some statistical analysis on the data. You will be looking at the data from different perspectives to determine if the water quality has improve. | AA1: Original Before Data | AB1: Original After Data | AC1: Random numbers | AD1: seed
B2: =IF(LEN(F1)=0,0,IF(VLOOKUP($AC3,$AD$3:$AF$102,2)*COUNTA($F$1)=0,56,VLOOKUP($AC3,$AD$3:$AF$102,2)*COUNTA($F$1))) -> 23 | C2: =IF(VLOOKUP($AC3,$AD$3:$AF$102,3)*COUNTA($F$1)=0,VLOOKUP(1,$AD$3:$AF$102,3)*COUNTA($F$1),VLOOKUP($AC3,$AD$3:$AF$102,3)*COUNTA($F$1)) -> 52 | E2: Before | G2: After | AD2: =MAX(0,LEN(F1)) -> 8
B3: =VLOOKUP($AC4,$AD$3:$AF$102,2)*COUNTA($F$1) -> 21 | C3: =VLOOKUP($AC4,$AD$3:$AF$102,3)*COUNTA($F$1) -> 3 | E3: min = | F3: =MIN(before) -> 21 | G3: min = | H3: =MIN(after) -> 0 | I3: Recall Topic 1 DQ 2 | AA3: 78 | AB3: 67 | AC3: =MOD(MOD(AD$2*AD3,1109),100)+1 -> 9 | AD3: 1 | AE3: =MAX(0,AA3-15) -> 63 | AF3: =MAX(0,AB3-15) -> 52
B4: =VLOOKUP($AC5,$AD$3:$AF$102,2)*COUNTA($F$1) -> 64 | C4: =VLOOKUP($AC5,$AD$3:$AF$102,3)*COUNTA($F$1) -> 35 | E4: max = | F4: =MAX(before) -> 73 | G4: max = | H4: =MAX(after) -> 52 | L4: 1. Calculate descriptive statistics for your data in the table provided in the Excel spreadsheet. Use the statistics including mean, max and standard deviations of the data to decide if it appears if there has been improvement in water quality? This requires a thorough discussion of these statistics to obtain full marks. (Fill in the before (F3:F8) and after (H3:H8) tables to the left for the descriptive statistics. The data has been named before and after for your convenience in creating formulas.) | AA4: 19 | AB4: 4 | AC4: =MOD(MOD(AD$2*AD4,1109),100)+1 -> 17 | AD4: 2 | AE4: =MAX(0,AA4-15) -> 4 | AF4: =MAX(0,AB4-15) -> 0
B5: =VLOOKUP($AC6,$AD$3:$AF$102,2)*COUNTA($F$1) -> 54 | C5: =VLOOKUP($AC6,$AD$3:$AF$102,3)*COUNTA($F$1) -> 44 | E5: mean= | F5: =AVERAGE(before) -> 54.28 | G5: mean= | H5: =AVERAGE(after) -> 33.48 | AA5: 32 | AB5: 23 | AC5: =MOD(MOD(AD$2*AD5,1109),100)+1 -> 25 | AD5: 3 | AE5: =MAX(0,AA5-15) -> 17 | AF5: =MAX(0,AB5-15) -> 8
B6: =VLOOKUP($AC7,$AD$3:$AF$102,2)*COUNTA($F$1) -> 72 | C6: =VLOOKUP($AC7,$AD$3:$AF$102,3)*COUNTA($F$1) -> 49 | E6: SD = | F6: =_xlfn.STDEV.S(before) -> 13.551309 | G6: SD = | H6: =_xlfn.STDEV.S(after) -> 15.038321 | AA6: 125 | AB6: 110 | AC6: =MOD(MOD(AD$2*AD6,1109),100)+1 -> 33 | AD6: 4 | AE6: =MAX(0,AA6-15) -> 110 | AF6: =MAX(0,AB6-15) -> 95
B7: =VLOOKUP($AC8,$AD$3:$AF$102,2)*COUNTA($F$1) -> 50 | C7: =VLOOKUP($AC8,$AD$3:$AF$102,3)*COUNTA($F$1) -> 35 | E7: # of wells tested = | F7: =COUNT(before) -> 100 | G7: # of wells tested = | H7: =COUNT(after) -> 100 | AA7: 53 | AB7: 41 | AC7: =MOD(MOD(AD$2*AD7,1109),100)+1 -> 41 | AD7: 5 | AE7: =MAX(0,AA7-15) -> 38 | AF7: =MAX(0,AB7-15) -> 26
B8: =VLOOKUP($AC9,$AD$3:$AF$102,2)*COUNTA($F$1) -> 52 | C8: =VLOOKUP($AC9,$AD$3:$AF$102,3)*COUNTA($F$1) -> 38 | E8: # of wells with 0 E coli = | F8: =COUNTIF(before,0) -> 0 | G8: # of wells with 0 E coli = | H8: =COUNTIF(after,0) -> 7 | AA8: 68 | AB8: 42 | AC8: =MOD(MOD(AD$2*AD8,1109),100)+1 -> 49 | AD8: 6 | AE8: =MAX(0,AA8-15) -> 53 | AF8: =MAX(0,AB8-15) -> 27
B9: =VLOOKUP($AC10,$AD$3:$AF$102,2)*COUNTA($F$1) -> 49 | C9: =VLOOKUP($AC10,$AD$3:$AF$102,3)*COUNTA($F$1) -> 10 | AA9: 4 | AB9: 10 | AC9: =MOD(MOD(AD$2*AD9,1109),100)+1 -> 57 | AD9: 7 | AE9: =MAX(0,AA9-15) -> 0 | AF9: =MAX(0,AB9-15) -> 0
B10: =VLOOKUP($AC11,$AD$3:$AF$102,2)*COUNTA($F$1) -> 55 | C10: =VLOOKUP($AC11,$AD$3:$AF$102,3)*COUNTA($F$1) -> 32 | E10: Ratio | G10: Before | H10: After | L10: Answer Question 1 below: | AA10: 106 | AB10: 79 | AC10: =MOD(MOD(AD$2*AD10,1109),100)+1 -> 65 | AD10: 8 | AE10: =MAX(0,AA10-15) -> 91 | AF10: =MAX(0,AB10-15) -> 64
B11: =VLOOKUP($AC12,$AD$3:$AF$102,2)*COUNTA($F$1) -> 73 | C11: =VLOOKUP($AC12,$AD$3:$AF$102,3)*COUNTA($F$1) -> 52 | E11: Percent Clean | G11: =(F8/F7) -> 0 | H11: =H8/H7 -> 0.07 | L11: The mean couint of E.coli cells has reduced from 54 to 33 million per ml after the mission. This indicates that the overall cell number has reduced after the treatment. | AA11: 38 | AB11: 6 | AC11: =MOD(MOD(AD$2*AD11,1109),100)+1 -> 73 | AD11: 9 | AE11: =MAX(0,AA11-15) -> 23 | AF11: =MAX(0,AB11-15) -> 0
B12: =VLOOKUP($AC13,$AD$3:$AF$102,2)*COUNTA($F$1) -> 55 | C12: =VLOOKUP($AC13,$AD$3:$AF$102,3)*COUNTA($F$1) -> 17 | AA12: 36 | AB12: 16 | AC12: =MOD(MOD(AD$2*AD12,1109),100)+1 -> 81 | AD12: 10 | AE12: =MAX(0,AA12-15) -> 21 | AF12: =MAX(0,AB12-15) -> 1
B13: =VLOOKUP($AC14,$AD$3:$AF$102,2)*COUNTA($F$1) -> 51 | C13: =VLOOKUP($AC14,$AD$3:$AF$102,3)*COUNTA($F$1) -> 37 | E13: Conversions | AA13: 4 | AB13: 14 | AC13: =MOD(MOD(AD$2*AD13,1109),100)+1 -> 89 | AD13: 11 | AE13: =MAX(0,AA13-15) -> 0 | AF13: =MAX(0,AB13-15) -> 0
B14: =VLOOKUP($AC15,$AD$3:$AF$102,2)*COUNTA($F$1) -> 38 | C14: =VLOOKUP($AC15,$AD$3:$AF$102,3)*COUNTA($F$1) -> 26 | E14: ml | G14: oz | AA14: 17 | AB14: 5 | AC14: =MOD(MOD(AD$2*AD14,1109),100)+1 -> 97 | AD14: 12 | AE14: =MAX(0,AA14-15) -> 2 | AF14: =MAX(0,AB14-15) -> 0
B15: =VLOOKUP($AC16,$AD$3:$AF$102,2)*COUNTA($F$1) -> 28 | C15: =VLOOKUP($AC16,$AD$3:$AF$102,3)*COUNTA($F$1) -> 0 | E15: 29.5735 | G15: 1 | AA15: 43 | AB15: 9 | AC15: =MOD(MOD(AD$2*AD15,1109),100)+1 -> 5 | AD15: 13 | AE15: =MAX(0,AA15-15) -> 28 | AF15: =MAX(0,AB15-15) -> 0
B16: =VLOOKUP($AC17,$AD$3:$AF$102,2)*COUNTA($F$1) -> 60 | C16: =VLOOKUP($AC17,$AD$3:$AF$102,3)*COUNTA($F$1) -> 44 | AA16: 23 | AB16: 3 | AC16: =MOD(MOD(AD$2*AD16,1109),100)+1 -> 13 | AD16: 14 | AE16: =MAX(0,AA16-15) -> 8 | AF16: =MAX(0,AB16-15) -> 0
B17: =VLOOKUP($AC18,$AD$3:$AF$102,2)*COUNTA($F$1) -> 57 | C17: =VLOOKUP($AC18,$AD$3:$AF$102,3)*COUNTA($F$1) -> 40 | E17: In 24 ounces | L17: 2. The water quality is “good” if the count of E coli is 0; otherwise, the water quality is still bad. Calculate the proportion of wells with “good” water to wells whose water is not good. From this measure does it appear that the quality of water improved? Explain and use the proportions that you calculated. (In G11 and H11 calculate the percent Clean for before and after.) | AA17: 32 | AB17: 8 | AC17: =MOD(MOD(AD$2*AD17,1109),100)+1 -> 21 | AD17: 15 | AE17: =MAX(0,AA17-15) -> 17 | AF17: =MAX(0,AB17-15) -> 0
B18: =VLOOKUP($AC19,$AD$3:$AF$102,2)*COUNTA($F$1) -> 59 | C18: =VLOOKUP($AC19,$AD$3:$AF$102,3)*COUNTA($F$1) -> 30 | E18: E.coli before | G18: E. coli after | AA18: 49 | AB18: 28 | AC18: =MOD(MOD(AD$2*AD18,1109),100)+1 -> 29 | AD18: 16 | AE18: =MAX(0,AA18-15) -> 34 | AF18: =MAX(0,AB18-15) -> 13
B19: =VLOOKUP($AC20,$AD$3:$AF$102,2)*COUNTA($F$1) -> 60 | C19: =VLOOKUP($AC20,$AD$3:$AF$102,3)*COUNTA($F$1) -> 42 | E19: =B2*(E15*24) -> 16324.572 | G19: =C2*(E15*24) -> 36907.728 | AA19: 36 | AB19: 18 | AC19: =MOD(MOD(AD$2*AD19,1109),100)+1 -> 37 | AD19: 17 | AE19: =MAX(0,AA19-15) -> 21 | AF19: =MAX(0,AB19-15) -> 3
B20: =VLOOKUP($AC21,$AD$3:$AF$102,2)*COUNTA($F$1) -> 61 | C20: =VLOOKUP($AC21,$AD$3:$AF$102,3)*COUNTA($F$1) -> 34 | AA20: 2 | AB20: 21 | AC20: =MOD(MOD(AD$2*AD20,1109),100)+1 -> 45 | AD20: 18 | AE20: =MAX(0,AA20-15) -> 0 | AF20: =MAX(0,AB20-15) -> 6
B21: =VLOOKUP($AC22,$AD$3:$AF$102,2)*COUNTA($F$1) -> 57 | C21: =VLOOKUP($AC22,$AD$3:$AF$102,3)*COUNTA($F$1) -> 33 | AA21: 33 | AB21: 22 | AC21: =MOD(MOD(AD$2*AD21,1109),100)+1 -> 53 | AD21: 19 | AE21: =MAX(0,AA21-15) -> 18 | AF21: =MAX(0,AB21-15) -> 7
B22: =VLOOKUP($AC23,$AD$3:$AF$102,2)*COUNTA($F$1) -> 71 | C22: =VLOOKUP($AC23,$AD$3:$AF$102,3)*COUNTA($F$1) -> 50 | L22: Answer Question 2 below: | AA22: 58 | AB22: 25 | AC22: =MOD(MOD(AD$2*AD22,1109),100)+1 -> 61 | AD22: 20 | AE22: =MAX(0,AA22-15) -> 43 | AF22: =MAX(0,AB22-15) -> 10
B23: =VLOOKUP($AC24,$AD$3:$AF$102,2)*COUNTA($F$1) -> 57 | C23: =VLOOKUP($AC24,$AD$3:$AF$102,3)*COUNTA($F$1) -> 40 | L23: The minimum cell count of 0 was achieved in 7 cells after the mission which comprises 7% of all 100 wells compared to before mission, none of the wells had 0 E.coli count. | AA23: 75 | AB23: 59 | AC23: =MOD(MOD(AD$2*AD23,1109),100)+1 -> 69 | AD23: 21 | AE23: =MAX(0,AA23-15) -> 60 | AF23: =MAX(0,AB23-15) -> 44
B24: =VLOOKUP($AC25,$AD$3:$AF$102,2)*COUNTA($F$1) -> 63 | C24: =VLOOKUP($AC25,$AD$3:$AF$102,3)*COUNTA($F$1) -> 38 | AA24: 82 | AB24: 63 | AC24: =MOD(MOD(AD$2*AD24,1109),100)+1 -> 77 | AD24: 22 | AE24: =MAX(0,AA24-15) -> 67 | AF24: =MAX(0,AB24-15) -> 48
B25: =VLOOKUP($AC26,$AD$3:$AF$102,2)*COUNTA($F$1) -> 64 | C25: =VLOOKUP($AC26,$AD$3:$AF$102,3)*COUNTA($F$1) -> 43 | AA25: 80 | AB25: 60 | AC25: =MOD(MOD(AD$2*AD25,1109),100)+1 -> 85 | AD25: 23 | AE25: =MAX(0,AA25-15) -> 65 | AF25: =MAX(0,AB25-15) -> 45
B26: =VLOOKUP($AC27,$AD$3:$AF$102,2)*COUNTA($F$1) -> 63 | C26: =VLOOKUP($AC27,$AD$3:$AF$102,3)*COUNTA($F$1) -> 52 | AA26: 70 | AB26: 52 | AC26: =MOD(MOD(AD$2*AD26,1109),100)+1 -> 93 | AD26: 24 | AE26: =MAX(0,AA26-15) -> 55 | AF26: =MAX(0,AB26-15) -> 37
B27: =VLOOKUP($AC28,$AD$3:$AF$102,2)*COUNTA($F$1) -> 23 | C27: =VLOOKUP($AC28,$AD$3:$AF$102,3)*COUNTA($F$1) -> 0 | AA27: 79 | AB27: 50 | AC27: =MOD(MOD(AD$2*AD27,1109),100)+1 -> 1 | AD27: 25 | AE27: =MAX(0,AA27-15) -> 64 | AF27: =MAX(0,AB27-15) -> 35
B28: =VLOOKUP($AC29,$AD$3:$AF$102,2)*COUNTA($F$1) -> 21 | C28: =VLOOKUP($AC29,$AD$3:$AF$102,3)*COUNTA($F$1) -> 3 | AA28: 73 | AB28: 66 | AC28: =MOD(MOD(AD$2*AD28,1109),100)+1 -> 9 | AD28: 26 | AE28: =MAX(0,AA28-15) -> 58 | AF28: =MAX(0,AB28-15) -> 51
B29: =VLOOKUP($AC30,$AD$3:$AF$102,2)*COUNTA($F$1) -> 64 | C29: =VLOOKUP($AC30,$AD$3:$AF$102,3)*COUNTA($F$1) -> 35 | L29: 3. Look at well #1 (B2 and C2) in your data. If you drank 24oz of water how many E.coli would you ingest if you drank from the well before the mission? After the mission? (In E19 and G19 calculate how many E.coli would you ingest if you drank 24 oz. of water from Well 1 before the mission and after the mission.) | AA29: 76 | AB29: 54 | AC29: =MOD(MOD(AD$2*AD29,1109),100)+1 -> 17 | AD29: 27 | AE29: =MAX(0,AA29-15) -> 61 | AF29: =MAX(0,AB29-15) -> 39
B30: =VLOOKUP($AC31,$AD$3:$AF$102,2)*COUNTA($F$1) -> 54 | C30: =VLOOKUP($AC31,$AD$3:$AF$102,3)*COUNTA($F$1) -> 44 | AA30: 72 | AB30: 42 | AC30: =MOD(MOD(AD$2*AD30,1109),100)+1 -> 25 | AD30: 28 | AE30: =MAX(0,AA30-15) -> 57 | AF30: =MAX(0,AB30-15) -> 27
B31: =VLOOKUP($AC32,$AD$3:$AF$102,2)*COUNTA($F$1) -> 72 | C31: =VLOOKUP($AC32,$AD$3:$AF$102,3)*COUNTA($F$1) -> 49 | AA31: 72 | AB31: 55 | AC31: =MOD(MOD(AD$2*AD31,1109),100)+1 -> 33 | AD31: 29 | AE31: =MAX(0,AA31-15) -> 57 | AF31: =MAX(0,AB31-15) -> 40
B32: =VLOOKUP($AC33,$AD$3:$AF$102,2)*COUNTA($F$1) -> 50 | C32: =VLOOKUP($AC33,$AD$3:$AF$102,3)*COUNTA($F$1) -> 35 | AA32: 70 | AB32: 53 | AC32: =MOD(MOD(AD$2*AD32,1109),100)+1 -> 41 | AD32: 30 | AE32: =MAX(0,AA32-15) -> 55 | AF32: =MAX(0,AB32-15) -> 38
B33: =VLOOKUP($AC34,$AD$3:$AF$102,2)*COUNTA($F$1) -> 52 | C33: =VLOOKUP($AC34,$AD$3:$AF$102,3)*COUNTA($F$1) -> 38 | AA33: 84 | AB33: 54 | AC33: =MOD(MOD(AD$2*AD33,1109),100)+1 -> 49 | AD33: 31 | AE33: =MAX(0,AA33-15) -> 69 | AF33: =MAX(0,AB33-15) -> 39
B34: =VLOOKUP($AC35,$AD$3:$AF$102,2)*COUNTA($F$1) -> 49 | C34: =VLOOKUP($AC35,$AD$3:$AF$102,3)*COUNTA($F$1) -> 10 | L34: Nothing to answer here! | AA34: 81 | AB34: 62 | AC34: =MOD(MOD(AD$2*AD34,1109),100)+1 -> 57 | AD34: 32 | AE34: =MAX(0,AA34-15) -> 66 | AF34: =MAX(0,AB34-15) -> 47
B35: =VLOOKUP($AC36,$AD$3:$AF$102,2)*COUNTA($F$1) -> 55 | C35: =VLOOKUP($AC36,$AD$3:$AF$102,3)*COUNTA($F$1) -> 32 | AA35: 69 | AB35: 59 | AC35: =MOD(MOD(AD$2*AD35,1109),100)+1 -> 65 | AD35: 33 | AE35: =MAX(0,AA35-15) -> 54 | AF35: =MAX(0,AB35-15) -> 44
B36: =VLOOKUP($AC37,$AD$3:$AF$102,2)*COUNTA($F$1) -> 73 | C36: =VLOOKUP($AC37,$AD$3:$AF$102,3)*COUNTA($F$1) -> 52 | AA36: 85 | AB36: 52 | AC36: =MOD(MOD(AD$2*AD36,1109),100)+1 -> 73 | AD36: 34 | AE36: =MAX(0,AA36-15) -> 70 | AF36: =MAX(0,AB36-15) -> 37
B37: =VLOOKUP($AC38,$AD$3:$AF$102,2)*COUNTA($F$1) -> 55 | C37: =VLOOKUP($AC38,$AD$3:$AF$102,3)*COUNTA($F$1) -> 17 | AA37: 100 | AB37: 69 | AC37: =MOD(MOD(AD$2*AD37,1109),100)+1 -> 81 | AD37: 35 | AE37: =MAX(0,AA37-15) -> 85 | AF37: =MAX(0,AB37-15) -> 54
B38: =VLOOKUP($AC39,$AD$3:$AF$102,2)*COUNTA($F$1) -> 51 | C38: =VLOOKUP($AC39,$AD$3:$AF$102,3)*COUNTA($F$1) -> 37 | AA38: 70 | AB38: 57 | AC38: =MOD(MOD(AD$2*AD38,1109),100)+1 -> 89 | AD38: 36 | AE38: =MAX(0,AA38-15) -> 55 | AF38: =MAX(0,AB38-15) -> 42
B39: =VLOOKUP($AC40,$AD$3:$AF$102,2)*COUNTA($F$1) -> 38 | C39: =VLOOKUP($AC40,$AD$3:$AF$102,3)*COUNTA($F$1) -> 26 | AA39: 74 | AB39: 45 | AC39: =MOD(MOD(AD$2*AD39,1109),100)+1 -> 97 | AD39: 37 | AE39: =MAX(0,AA39-15) -> 59 | AF39: =MAX(0,AB39-15) -> 30
B40: =VLOOKUP($AC41,$AD$3:$AF$102,2)*COUNTA($F$1) -> 28 | C40: =VLOOKUP($AC41,$AD$3:$AF$102,3)*COUNTA($F$1) -> 0 | AA40: 63 | AB40: 39 | AC40: =MOD(MOD(AD$2*AD40,1109),100)+1 -> 5 | AD40: 38 | AE40: =MAX(0,AA40-15) -> 48 | AF40: =MAX(0,AB40-15) -> 24
...

Sheet Part 2 Questions 4-6
B1: ='Part 2 Questions 1-3'!B1 -> Before wells were dug - Millions of E.Coli per ml | C1: ='Part 2 Questions 1-3'!C1 -> After wells were dug - Millions of E.Coli per ml | D1: Improvement Data: Before - After | L1: Part 2 – Data Analysis: You have just completed a mission to Sierra Leone. The goal of the mission was to improve the quality of water in 100 wells in a certain region. You collected data on the E. coli count from each well before (Q1) after your mission (Q2). You need to write a report on the success of the mission and for that you need to perform some statistical analysis on the data. You will be looking at the data from different perspectives to determine if the water quality has improved.
B2: ='Part 2 Questions 1-3'!B2 -> 23 | C2: ='Part 2 Questions 1-3'!C2 -> 52 | D2: =B2-C2 -> -29 | F2: IMPROVEMENTS
B3: ='Part 2 Questions 1-3'!B3 -> 21 | C3: ='Part 2 Questions 1-3'!C3 -> 3 | D3: =B3-C3 -> 18 | F3: min = | G3: =MIN(D2:D101) -> -29 | H3: All computations use column D, the "Improvement" data. | L3: 4. Since you collected water from the same source twice it makes sense to analyze the amount by which each well’s water quality improved. Calculate a data set that would measure the improvement level of each well, and the descriptive statistics for that data set, including both the standard deviation and standard error (SE) for the data set. (see section 3.5 of the textbook). Make a frequency distribution and histogram for your data. (Calculate the improvement in the water quality of each well in column D. (Difference in Level of e. Coli.) Then, fill out the two tables to the left and make a histogram of the improvement levels. (NOTE: The Standard deviation of this data set is not the same as the standard error. Use the formulas from section 3.5 of the text to calculate the standard error of the means.))
B4: ='Part 2 Questions 1-3'!B4 -> 64 | C4: ='Part 2 Questions 1-3'!C4 -> 35 | D4: =B4-C4 -> 29 | F4: max = | G4: =MAX(D2:D101) -> 39
B5: ='Part 2 Questions 1-3'!B5 -> 54 | C5: ='Part 2 Questions 1-3'!C5 -> 44 | D5: =B5-C5 -> 10 | F5: mean= | G5: =AVERAGE(D2:D101) -> 20.8
B6: ='Part 2 Questions 1-3'!B6 -> 72 | C6: ='Part 2 Questions 1-3'!C6 -> 49 | D6: =B6-C6 -> 23 | F6: SD = | G6: =_xlfn.STDEV.S(D2:D101) -> 8.982587
B7: ='Part 2 Questions 1-3'!B7 -> 50 | C7: ='Part 2 Questions 1-3'!C7 -> 35 | D7: =B7-C7 -> 15 | F7: SE = | G7: =G6/SQRT(100) -> 0.8982587
B8: ='Part 2 Questions 1-3'!B8 -> 52 | C8: ='Part 2 Questions 1-3'!C8 -> 38 | D8: =B8-C8 -> 14
B9: ='Part 2 Questions 1-3'!B9 -> 49 | C9: ='Part 2 Questions 1-3'!C9 -> 10 | D9: =B9-C9 -> 39 | F9: Histogram - Width
B10: ='Part 2 Questions 1-3'!B10 -> 55 | C10: ='Part 2 Questions 1-3'!C10 -> 32 | D10: =B10-C10 -> 23 | F10: Bin Width | G10: =D2:D101 -> 23
B11: ='Part 2 Questions 1-3'!B11 -> 73 | C11: ='Part 2 Questions 1-3'!C11 -> 52 | D11: =B11-C11 -> 21
B12: ='Part 2 Questions 1-3'!B12 -> 55 | C12: ='Part 2 Questions 1-3'!C12 -> 17 | D12: =B12-C12 -> 38 | F12: Frequency Distribution
B13: ='Part 2 Questions 1-3'!B13 -> 51 | C13: ='Part 2 Questions 1-3'!C13 -> 37 | D13: =B13-C13 -> 14 | F13: Low | G13: High | H13: Bins | I13: Cumulative Frequency | J13: Frequency | L13: 5. You have calculated one sample of 100 wells and their improvement levels. If you could take all possible samples of 100 wells, the distribution of all of those sample means would be a normal distribution. (see section 3.5). Find the 95% confidence interval of that distribution, using your sample mean as the population mean and the standard error of your sample as the population standard deviation. (Calculate the 95% confidence interval of the sampling distribution in cells F30 and H30.)
B14: ='Part 2 Questions 1-3'!B14 -> 38 | C14: ='Part 2 Questions 1-3'!C14 -> 26 | D14: =B14-C14 -> 12 | F14: formula | G14: formula | H14: auto | I14: formula | J14: formula
B15: ='Part 2 Questions 1-3'!B15 -> 28 | C15: ='Part 2 Questions 1-3'!C15 -> 0 | D15: =B15-C15 -> 28 | F15: formula | G15: formula | H15: =IF(OR(F15="formula",G15="formula"),"auto","("&F15&", "&G15&"]") -> auto | I15: formula | J15: formula
B16: ='Part 2 Questions 1-3'!B16 -> 60 | C16: ='Part 2 Questions 1-3'!C16 -> 44 | D16: =B16-C16 -> 16 | F16: formula | G16: formula | H16: =IF(OR(F16="formula",G16="formula"),"auto","("&F16&", "&G16&"]") -> auto | I16: formula | J16: formula
B17: ='Part 2 Questions 1-3'!B17 -> 57 | C17: ='Part 2 Questions 1-3'!C17 -> 40 | D17: =B17-C17 -> 17 | F17: formula | G17: formula | H17: =IF(OR(F17="formula",G17="formula"),"auto","("&F17&", "&G17&"]") -> auto | I17: formula | J17: formula
B18: ='Part 2 Questions 1-3'!B18 -> 59 | C18: ='Part 2 Questions 1-3'!C18 -> 30 | D18: =B18-C18 -> 29 | F18: formula | G18: formula | H18: =IF(OR(F18="formula",G18="formula"),"auto","("&F18&", "&G18&"]") -> auto | I18: formula | J18: formula
B19: ='Part 2 Questions 1-3'!B19 -> 60 | C19: ='Part 2 Questions 1-3'!C19 -> 42 | D19: =B19-C19 -> 18 | F19: formula | G19: formula | H19: =IF(OR(F19="formula",G19="formula"),"auto","("&F19&", "&G19&"]") -> auto | I19: formula | J19: formula | L19: 6. Recall that a 95% confidence interval shows a range of values that is 95% likely to contain the true value of a parameter. For example, if your 95% confidence interval for the average improvement level is (14, 18), it would mean that the true average improvement level is 95% likely to be in the range (14, 18). Now answer each of these questions: a) What would it mean for the average improvement in water quality to be 0? b) Look at the confidence interval you calculated--is the value 0 inside or outside your confidence interval? c) If the value 0 is outside and less than your 95% confidence interval, can you conclude (with 95% confidence) that the water became cleaner? d) What if the value 0 were inside your confidence interval? Could you conclude in that case that the water became cleaner or not?
B20: ='Part 2 Questions 1-3'!B20 -> 61 | C20: ='Part 2 Questions 1-3'!C20 -> 34 | D20: =B20-C20 -> 27 | F20: formula | G20: formula | H20: =IF(OR(F20="formula",G20="formula"),"auto","("&F20&", "&G20&"]") -> auto | I20: formula | J20: formula
B21: ='Part 2 Questions 1-3'!B21 -> 57 | C21: ='Part 2 Questions 1-3'!C21 -> 33 | D21: =B21-C21 -> 24 | F21: formula | G21: formula | H21: =IF(OR(F21="formula",G21="formula"),"auto","("&F21&", "&G21&"]") -> auto | I21: formula | J21: formula
B22: ='Part 2 Questions 1-3'!B22 -> 71 | C22: ='Part 2 Questions 1-3'!C22 -> 50 | D22: =B22-C22 -> 21 | F22: formula | G22: formula | H22: =IF(OR(F22="formula",G22="formula"),"auto","("&F22&", "&G22&"]") -> auto | I22: formula | J22: formula
B23: ='Part 2 Questions 1-3'!B23 -> 57 | C23: ='Part 2 Questions 1-3'!C23 -> 40 | D23: =B23-C23 -> 17 | F23: formula | G23: formula | H23: =IF(OR(F23="formula",G23="formula"),"auto","("&F23&", "&G23&"]") -> auto | I23: formula | J23: formula
B24: ='Part 2 Questions 1-3'!B24 -> 63 | C24: ='Part 2 Questions 1-3'!C24 -> 38 | D24: =B24-C24 -> 25 | F24: formula | G24: formula | H24: =IF(OR(F24="formula",G24="formula"),"auto","("&F24&", "&G24&"]") -> auto | I24: formula | J24: formula
B25: ='Part 2 Questions 1-3'!B25 -> 64 | C25: ='Part 2 Questions 1-3'!C25 -> 43 | D25: =B25-C25 -> 21 | F25: (remember to create the Histogram, too).
B26: ='Part 2 Questions 1-3'!B26 -> 63 | C26: ='Part 2 Questions 1-3'!C26 -> 52 | D26: =B26-C26 -> 11
B27: ='Part 2 Questions 1-3'!B27 -> 23 | C27: ='Part 2 Questions 1-3'!C27 -> 0 | D27: =B27-C27 -> 23
B28: ='Part 2 Questions 1-3'!B28 -> 21 | C28: ='Part 2 Questions 1-3'!C28 -> 3 | D28: =B28-C28 -> 18 | F28: 95% Confidence Interval
B29: ='Part 2 Questions 1-3'!B29 -> 64 | C29: ='Part 2 Questions 1-3'!C29 -> 35 | D29: =B29-C29 -> 29 | F29: Lower number | G29: to | H29: Higher number
B30: ='Part 2 Questions 1-3'!B30 -> 54 | C30: ='Part 2 Questions 1-3'!C30 -> 44 | D30: =B30-C30 -> 10 | F30: =G5-CONFIDENCE(0.05,G6,100) -> 19.039445 | G30: to | H30: =G5+CONFIDENCE(0.05,G6,100) -> 22.560555 | L30: Answer Question 6 (a):
B31: ='Part 2 Questions 1-3'!B31 -> 72 | C31: ='Part 2 Questions 1-3'!C31 -> 49 | D31: =B31-C31 -> 23 | L31: If o is included in confidence interval, we are not 95% confident that the improvement in quality of water has improved and conclude that the water has not become cleaner.
B32: ='Part 2 Questions 1-3'!B32 -> 50 | C32: ='Part 2 Questions 1-3'!C32 -> 35 | D32: =B32-C32 -> 15 | F32: Bin | G32: Frequency | H32: Cumulative %
B33: ='Part 2 Questions 1-3'!B33 -> 52 | C33: ='Part 2 Questions 1-3'!C33 -> 38 | D33: =B33-C33 -> 14 | F33: -29 | G33: 1 | H33: 0.01
B34: ='Part 2 Questions 1-3'!B34 -> 49 | C34: ='Part 2 Questions 1-3'!C34 -> 10 | D34: =B34-C34 -> 39 | F34: -22.2 | G34: 0 | H34: 0.01
B35: ='Part 2 Questions 1-3'!B35 -> 55 | C35: ='Part 2 Questions 1-3'!C35 -> 32 | D35: =B35-C35 -> 23 | F35: -15.4 | G35: 0 | H35: 0.01
B36: ='Part 2 Questions 1-3'!B36 -> 73 | C36: ='Part 2 Questions 1-3'!C36 -> 52 | D36: =B36-C36 -> 21 | F36: -8.6 | G36: 0 | H36: 0.01
B37: ='Part 2 Questions 1-3'!B37 -> 55 | C37: ='Part 2 Questions 1-3'!C37 -> 17 | D37: =B37-C37 -> 38 | F37: -1.8 | G37: 0 | H37: 0.01
B38: ='Part 2 Questions 1-3'!B38 -> 51 | C38: ='Part 2 Questions 1-3'!C38 -> 37 | D38: =B38-C38 -> 14 | F38: 5 | G38: 0 | H38: 0.01 | L38: Answer Quastion 6 (b): | O38: Outside
B39: ='Part 2 Questions 1-3'!B39 -> 38 | C39: ='Part 2 Questions 1-3'!C39 -> 26 | D39: =B39-C39 -> 12 | F39: 11.8 | G39: 8 | H39: 0.09
B40: ='Part 2 Questions 1-3'!B40 -> 28 | C40: ='Part 2 Questions 1-3'!C40 -> 0 | D40: =B40-C40 -> 28 | F40: 18.6 | G40: 36 | H40: 0.45 | L40: Answer Question 6 (c): | O40: No
...
